BEGIN:VCALENDAR
VERSION:2.0
PRODID:-//Stichting Avrupali Eynesilliler - ECPv6.15.20//NONSGML v1.0//EN
CALSCALE:GREGORIAN
METHOD:PUBLISH
X-WR-CALNAME:Stichting Avrupali Eynesilliler
X-ORIGINAL-URL:https://eynesil.eu
X-WR-CALDESC:Events for Stichting Avrupali Eynesilliler
REFRESH-INTERVAL;VALUE=DURATION:PT1H
X-Robots-Tag:noindex
X-PUBLISHED-TTL:PT1H
BEGIN:VTIMEZONE
TZID:Europe/Paris
BEGIN:DAYLIGHT
TZOFFSETFROM:+0100
TZOFFSETTO:+0200
TZNAME:CEST
DTSTART:20250330T010000
END:DAYLIGHT
BEGIN:STANDARD
TZOFFSETFROM:+0200
TZOFFSETTO:+0100
TZNAME:CET
DTSTART:20251026T010000
END:STANDARD
BEGIN:DAYLIGHT
TZOFFSETFROM:+0100
TZOFFSETTO:+0200
TZNAME:CEST
DTSTART:20260329T010000
END:DAYLIGHT
BEGIN:STANDARD
TZOFFSETFROM:+0200
TZOFFSETTO:+0100
TZNAME:CET
DTSTART:20261025T010000
END:STANDARD
BEGIN:DAYLIGHT
TZOFFSETFROM:+0100
TZOFFSETTO:+0200
TZNAME:CEST
DTSTART:20270328T010000
END:DAYLIGHT
BEGIN:STANDARD
TZOFFSETFROM:+0200
TZOFFSETTO:+0100
TZNAME:CET
DTSTART:20271031T010000
END:STANDARD
END:VTIMEZONE
BEGIN:VEVENT
DTSTART;TZID=Europe/Paris:20260111T100000
DTEND;TZID=Europe/Paris:20260111T130000
DTSTAMP:20260423T205403
CREATED:20251228T134016Z
LAST-MODIFIED:20251228T134848Z
UID:24695-1768125600-1768136400@eynesil.eu
SUMMARY:Ontbijtbijeenkomst met Deelname van de Districtsgouverneur van Eynesil
DESCRIPTION:Met deelname van Erkut Pamuk\, districtsgovernneur van Eynesil\, hebben wij een waardevolle ontbijtbijeenkomst georganiseerd. \nTijdens deze bijeenkomst werd in een open en constructieve sfeer gesproken over maatschappelijke betrokkenheid\, samenwerking en gemeenschapsgerichte initiatieven. De ontmoeting bood ruimte voor dialoog\, uitwisseling van ideeën en het versterken van onderlinge banden.
URL:https://eynesil.eu/event/ontbijtbijeenkomst-met-deelname-van-de-districtsgouverneur-van-eynesil/
LOCATION:Ulu Cami Sliedrecht\, P.C. Hooftlaan 3\, Sliedrecht\, 3362 TV\, Netherlands
CATEGORIES:Activiteiten
ATTACH;FMTTYPE=image/jpeg:https://eynesil.eu/wp-content/uploads/2025/12/brosur.jpg
ORGANIZER;CN="Stichting Avrupali Eynesilliler":MAILTO:info@eynesil.eu
END:VEVENT
END:VCALENDAR